BEGIN:VCALENDAR
VERSION:2.0
PRODID:-//Community Living, Inc - ECPv6.15.17.1//NONSGML v1.0//EN
CALSCALE:GREGORIAN
METHOD:PUBLISH
X-ORIGINAL-URL:https://www.communitylivingmo.org
X-WR-CALDESC:Events for Community Living, Inc
REFRESH-INTERVAL;VALUE=DURATION:PT1H
X-Robots-Tag:noindex
X-PUBLISHED-TTL:PT1H
BEGIN:VTIMEZONE
TZID:America/Chicago
BEGIN:DAYLIGHT
TZOFFSETFROM:-0600
TZOFFSETTO:-0500
TZNAME:CDT
DTSTART:20180311T080000
END:DAYLIGHT
BEGIN:STANDARD
TZOFFSETFROM:-0500
TZOFFSETTO:-0600
TZNAME:CST
DTSTART:20181104T070000
END:STANDARD
BEGIN:DAYLIGHT
TZOFFSETFROM:-0600
TZOFFSETTO:-0500
TZNAME:CDT
DTSTART:20190310T080000
END:DAYLIGHT
BEGIN:STANDARD
TZOFFSETFROM:-0500
TZOFFSETTO:-0600
TZNAME:CST
DTSTART:20191103T070000
END:STANDARD
BEGIN:DAYLIGHT
TZOFFSETFROM:-0600
TZOFFSETTO:-0500
TZNAME:CDT
DTSTART:20200308T080000
END:DAYLIGHT
BEGIN:STANDARD
TZOFFSETFROM:-0500
TZOFFSETTO:-0600
TZNAME:CST
DTSTART:20201101T070000
END:STANDARD
END:VTIMEZONE
BEGIN:VEVENT
DTSTART;TZID=America/Chicago:20190807T170000
DTEND;TZID=America/Chicago:20190807T190000
DTSTAMP:20260420T215334
CREATED:20190715T133928Z
LAST-MODIFIED:20190715T133928Z
UID:10000234-1565197200-1565204400@www.communitylivingmo.org
SUMMARY:St. Charles School District Family Festival
DESCRIPTION:St. Charles School District Family Festival\nCommunity Living will be a vendor at the St. Charles School District Family Festival on Wednesday\, August 7th from 5:00-7:00 pm at St. Charles High School. We will have an information table as well as a table with kids’ activities. \nThe district scheduled this event one week prior to school starting so parents and students can get the necessary information and items needed for their student to start the school year prepared. This event is a wonderful opportunity for families in the district to receive valuable resources\, services and information from organizations within our community.
URL:https://www.communitylivingmo.org/event/st-charles-school-district-family-festival/
LOCATION:St. Charles High School\, 725 Kingshighway\, St Charles\, MO\, 63301\, United States
END:VEVENT
END:VCALENDAR